BEGIN:VCALENDAR
VERSION:2.0
PRODID:-//hacksw/handcal//NONSGML v1.0//EN
BEGIN:VEVENT
SUMMARY:minibus ( petanque Aouste sur Sye )
UID:9d80c889-2b27-4709-b98a-d1e79e2f1731
DTSTART:20260905T220000Z
DTEND:20260906T214500Z
LOCATION:Localisation   
CATEGORIES:Sportif
STATUS:
URL;VALUE=URI:https://www.unionsportivecrestoise.com/evenements/2026/09/06/minibus-petanque-aouste-sur-sye-2421481
END:VEVENT
END:VCALENDAR
