BEGIN:VCALENDAR
VERSION:2.0
PRODID:-//hacksw/handcal//NONSGML v1.0//EN
BEGIN:VEVENT
SUMMARY:minibus ( petanque Aouste sur Sye )
UID:7790ec2f-8e7c-4821-bb78-ea38ff9f73ff
DTSTART:20260627T220000Z
DTEND:20260628T214500Z
LOCATION:Localisation   
CATEGORIES:Sportif
STATUS:
URL;VALUE=URI:https://www.unionsportivecrestoise.com/evenements/2026/06/28/minibus-petanque-aouste-sur-sye-2421480
END:VEVENT
END:VCALENDAR
