BEGIN:VCALENDAR
VERSION:2.0
PRODID:-//hacksw/handcal//NONSGML v1.0//EN
BEGIN:VEVENT
SUMMARY:reservation tous les Barnums ( tournois annuel Foot )
UID:1eabdaba-97b2-4c55-8644-65ba756b441c
DTSTART:20260612T120000Z
DTEND:20260615T120000Z
LOCATION:Localisation   
CATEGORIES:Sportif
STATUS:
URL;VALUE=URI:https://www.unionsportivecrestoise.com/evenements/2026/06/12/reservation-tous-les-barnums-tournois-annuel-foot-2420683
END:VEVENT
END:VCALENDAR
