BEGIN:VCALENDAR
VERSION:2.0
PRODID:-//hacksw/handcal//NONSGML v1.0//EN
BEGIN:VEVENT
SUMMARY:reservation 3 Barnums ( foot )
UID:3c1cf48c-40ee-4f4b-9864-fabcbc379925
DTSTART:20260522T050000Z
DTEND:20260522T200000Z
LOCATION:Localisation   
CATEGORIES:Festif
STATUS:
URL;VALUE=URI:https://www.unionsportivecrestoise.com/evenements/2026/05/22/reservation-3-barnums-foot-2420681
END:VEVENT
END:VCALENDAR
