BEGIN:VCALENDAR
VERSION:2.0
PRODID:-//hacksw/handcal//NONSGML v1.0//EN
BEGIN:VEVENT
SUMMARY:Reservation 2 barnums 3x3, + minibus (cyclotourisme)
UID:fe766822-fe79-486d-bfad-924ef4ad5b23
DTSTART:20260514T050000Z
DTEND:20260514T200000Z
LOCATION:Localisation   
CATEGORIES:Sportif
STATUS:
URL;VALUE=URI:https://www.unionsportivecrestoise.com/evenements/2026/05/14/reservation-2-barnums-3x3-minibus-cyclotourisme-2421099
END:VEVENT
END:VCALENDAR
