BEGIN:VCALENDAR
VERSION:2.0
PRODID:-//hacksw/handcal//NONSGML v1.0//EN
BEGIN:VEVENT
SUMMARY:Foot ( Annecy)
UID:e183d71d-bdd8-487c-bacf-c2e3b4a75deb
DTSTART:20260425T110000Z
DTEND:20260425T210000Z
LOCATION:Localisation   
CATEGORIES:Sportif
STATUS:
URL;VALUE=URI:https://www.unionsportivecrestoise.com/evenements/2026/04/25/foot-annecy-2443350
END:VEVENT
END:VCALENDAR
