BEGIN:VCALENDAR
VERSION:2.0
PRODID:-//hacksw/handcal//NONSGML v1.0//EN
BEGIN:VEVENT
SUMMARY:Minibus reserve ( petanque )
UID:3717cfe1-8839-47e4-b93e-3e29d4ea07b1
DTSTART:20260331T050000Z
DTEND:20260331T210000Z
LOCATION:Localisation   
CATEGORIES:Sportif
STATUS:
URL;VALUE=URI:https://www.unionsportivecrestoise.com/evenements/2026/03/31/minibus-reserve-petanque-2417601
END:VEVENT
END:VCALENDAR
