BEGIN:VCALENDAR
VERSION:2.0
PRODID:-//hacksw/handcal//NONSGML v1.0//EN
BEGIN:VEVENT
SUMMARY:Salle reservee ( cyclotourisme)
UID:4653ca97-11aa-48da-9183-413d03c7daf0
DTSTART:20260317T070000Z
DTEND:20260317T110000Z
LOCATION:Localisation   
CATEGORIES:Sportif
STATUS:
URL;VALUE=URI:https://www.unionsportivecrestoise.com/evenements/2026/03/17/salle-reservee-cyclotourisme-2428653
END:VEVENT
END:VCALENDAR
