BEGIN:VCALENDAR
VERSION:2.0
PRODID:-//hacksw/handcal//NONSGML v1.0//EN
BEGIN:VEVENT
SUMMARY:Salle reservee ( tour et detour)
UID:23c9b7f1-248c-431e-93cf-f2bd8a2d64d3
DTSTART:20260316T130000Z
DTEND:20260316T170000Z
LOCATION:Localisation   
CATEGORIES:Administratif
STATUS:
URL;VALUE=URI:https://www.unionsportivecrestoise.com/evenements/2026/03/16/salle-reservee-tour-et-detour-2418880
END:VEVENT
END:VCALENDAR
