BEGIN:VCALENDAR
VERSION:2.0
PRODID:-//hacksw/handcal//NONSGML v1.0//EN
BEGIN:VEVENT
SUMMARY:Salle reservee ( USC)
UID:efac4c74-45ae-412b-bca9-2cbac8534514
DTSTART:20260314T130000Z
DTEND:20260314T160000Z
LOCATION:Localisation   
CATEGORIES:Sportif
STATUS:
URL;VALUE=URI:https://www.unionsportivecrestoise.com/evenements/2026/03/14/salle-reservee-usc-2418723
END:VEVENT
END:VCALENDAR
