BEGIN:VCALENDAR
VERSION:2.0
PRODID:-//hacksw/handcal//NONSGML v1.0//EN
BEGIN:VEVENT
SUMMARY:mini bus ( college RevezLong ) La Rochette (73)
UID:2f8a2f12-9a05-408f-ac3b-82715f5d671a
DTSTART:20260311T060000Z
DTEND:20260311T210000Z
LOCATION:Localisation   
CATEGORIES:Sportif
STATUS:
URL;VALUE=URI:https://www.unionsportivecrestoise.com/evenements/2026/03/11/mini-bus-college-revezlong-la-rochette-73-2421295
END:VEVENT
END:VCALENDAR
