BEGIN:VCALENDAR
VERSION:2.0
PRODID:-//hacksw/handcal//NONSGML v1.0//EN
BEGIN:VEVENT
SUMMARY:Salle reservee ( cyclotourisme)
UID:9f34a6ab-5c7b-483b-825a-e43797a034b5
DTSTART:20260305T070000Z
DTEND:20260305T130000Z
LOCATION:Localisation   
CATEGORIES:Administratif
STATUS:
URL;VALUE=URI:https://www.unionsportivecrestoise.com/evenements/2026/03/05/salle-reservee-cyclotourisme-2420449
END:VEVENT
END:VCALENDAR
