BEGIN:VCALENDAR
VERSION:2.0
PRODID:-//hacksw/handcal//NONSGML v1.0//EN
BEGIN:VEVENT
SUMMARY:minibus ( Boxe/savate) merignac ( 33)
UID:c8cfcfb3-e582-4e35-9b79-6f94497f6daf
DTSTART:20260227T231500Z
DTEND:20260301T210000Z
LOCATION:Localisation   
CATEGORIES:Sportif
STATUS:
DESCRIPTION:<p>bus recupere le vendredi soir !</p>
URL;VALUE=URI:https://www.unionsportivecrestoise.com/evenements/2026/02/28/minibus-boxesavate-merignac-33-2407480
END:VEVENT
END:VCALENDAR
